Package: EDIRquery Version: 1.11.0 Command: /home/biocbuild/bbs-3.23-bioc/R/bin/R CMD INSTALL EDIRquery StartedAt: 2025-11-06 15:24:20 -0500 (Thu, 06 Nov 2025) EndedAt: 2025-11-06 15:24:45 -0500 (Thu, 06 Nov 2025) EllapsedTime: 24.5 seconds RetCode: 0 Status: OK