Package: EDIRquery Version: 1.11.0 Command: /home/biocbuild/bbs-3.23-bioc/R/bin/R CMD check --install=check:EDIRquery.install-out.txt --library=/home/biocbuild/bbs-3.23-bioc/R/site-library --timings EDIRquery_1.11.0.tar.gz StartedAt: 2025-11-06 23:02:31 -0500 (Thu, 06 Nov 2025) EndedAt: 2025-11-06 23:05:33 -0500 (Thu, 06 Nov 2025) EllapsedTime: 182.3 seconds RetCode: 0 Status: OK CheckDir: EDIRquery.Rcheck Warnings: 0