Package: EDIRquery Version: 1.11.0 Command: /home/biocbuild/bbs-3.23-bioc/R/bin/R CMD build --keep-empty-dirs --no-resave-data EDIRquery StartedAt: 2025-11-06 17:22:38 -0500 (Thu, 06 Nov 2025) EndedAt: 2025-11-06 17:23:15 -0500 (Thu, 06 Nov 2025) EllapsedTime: 37.0 seconds RetCode: 0 Status: OK PackageFile: EDIRquery_1.11.0.tar.gz PackageFileSize: 1.377 MiB