Package: EDIRquery Version: 1.10.0 Command: /Library/Frameworks/R.framework/Resources/bin/R CMD check --install=check:EDIRquery.install-out.txt --library=/Library/Frameworks/R.framework/Resources/library --no-vignettes --timings EDIRquery_1.10.0.tar.gz StartedAt: 2025-10-30 02:01:03 -0400 (Thu, 30 Oct 2025) EndedAt: 2025-10-30 02:02:12 -0400 (Thu, 30 Oct 2025) EllapsedTime: 68.8 seconds RetCode: 0 Status: OK CheckDir: EDIRquery.Rcheck Warnings: 0