Package: EDASeq Version: 2.43.0 Command: /home/biocbuild/R/R/bin/R CMD INSTALL EDASeq StartedAt: 2025-10-20 21:15:44 -0000 (Mon, 20 Oct 2025) EndedAt: 2025-10-20 21:16:38 -0000 (Mon, 20 Oct 2025) EllapsedTime: 53.4 seconds RetCode: 0 Status: OK