Package: EDASeq Version: 2.43.0 Command: /home/biocbuild/R/R/bin/R CMD build --keep-empty-dirs --no-resave-data EDASeq StartedAt: 2025-10-20 23:33:10 -0000 (Mon, 20 Oct 2025) EndedAt: 2025-10-20 23:34:49 -0000 (Mon, 20 Oct 2025) EllapsedTime: 99.0 seconds RetCode: 0 Status: OK PackageFile: EDASeq_2.43.0.tar.gz PackageFileSize: 698.1 KiB