Package: EDASeq Version: 2.45.0 Command: /home/biocbuild/bbs-3.23-bioc/R/bin/R CMD INSTALL EDASeq StartedAt: 2025-11-04 15:50:10 -0500 (Tue, 04 Nov 2025) EndedAt: 2025-11-04 15:50:51 -0500 (Tue, 04 Nov 2025) EllapsedTime: 40.8 seconds RetCode: 0 Status: OK