Package: EDASeq Version: 2.45.0 Command: /home/biocbuild/bbs-3.23-bioc/R/bin/R CMD build --keep-empty-dirs --no-resave-data EDASeq StartedAt: 2025-11-04 17:22:22 -0500 (Tue, 04 Nov 2025) EndedAt: 2025-11-04 17:23:36 -0500 (Tue, 04 Nov 2025) EllapsedTime: 74.1 seconds RetCode: 0 Status: OK PackageFile: EDASeq_2.45.0.tar.gz PackageFileSize: 1.135 MiB