Package: EDASeq Version: 2.43.0 Command: /Library/Frameworks/R.framework/Resources/bin/R CMD INSTALL EDASeq StartedAt: 2025-09-29 15:41:42 -0400 (Mon, 29 Sep 2025) EndedAt: 2025-09-29 15:42:40 -0400 (Mon, 29 Sep 2025) EllapsedTime: 58.1 seconds RetCode: 0 Status: OK