Package: EDASeq Version: 2.43.0 Command: /Library/Frameworks/R.framework/Resources/bin/R CMD build --keep-empty-dirs --no-resave-data EDASeq StartedAt: 2025-09-29 16:49:20 -0400 (Mon, 29 Sep 2025) EndedAt: 2025-09-29 16:50:47 -0400 (Mon, 29 Sep 2025) EllapsedTime: 86.9 seconds RetCode: 0 Status: OK PackageFile: EDASeq_2.43.0.tar.gz PackageFileSize: 1.086 MiB