Package: EBcoexpress Version: 1.55.0 Command: /home/biocbuild/bbs-3.23-bioc/R/bin/R CMD build --keep-empty-dirs --no-resave-data EBcoexpress StartedAt: 2025-11-20 17:26:32 -0500 (Thu, 20 Nov 2025) EndedAt: 2025-11-20 17:26:53 -0500 (Thu, 20 Nov 2025) EllapsedTime: 21.0 seconds RetCode: 0 Status: OK PackageFile: EBcoexpress_1.55.0.tar.gz PackageFileSize: 3.036 MiB