Package: EBcoexpress Version: 1.53.0 Command: /Library/Frameworks/R.framework/Resources/bin/R CMD INSTALL EBcoexpress StartedAt: 2025-10-14 15:15:44 -0400 (Tue, 14 Oct 2025) EndedAt: 2025-10-14 15:15:57 -0400 (Tue, 14 Oct 2025) EllapsedTime: 13.5 seconds RetCode: 0 Status: OK