Package: EBcoexpress Version: 1.53.0 Command: /Library/Frameworks/R.framework/Resources/bin/R CMD build --keep-empty-dirs --no-resave-data EBcoexpress StartedAt: 2025-10-13 17:03:17 -0400 (Mon, 13 Oct 2025) EndedAt: 2025-10-13 17:04:00 -0400 (Mon, 13 Oct 2025) EllapsedTime: 43.6 seconds RetCode: 0 Status: OK PackageFile: EBcoexpress_1.53.0.tar.gz PackageFileSize: 2.665 MiB