Package: EBcoexpress Version: 1.53.0 Command: rm -rf EBcoexpress.buildbin-libdir && mkdir EBcoexpress.buildbin-libdir && /Users/biocbuild/BBS/utils/build-universal.sh EBcoexpress_1.53.0.tar.gz /Library/Frameworks/R.framework/Resources/bin/R EBcoexpress.buildbin-libdir StartedAt: 2025-10-14 02:42:19 -0400 (Tue, 14 Oct 2025) EndedAt: 2025-10-14 02:42:31 -0400 (Tue, 14 Oct 2025) EllapsedTime: 12.8 seconds RetCode: 0 Status: OK PackageFile: EBcoexpress_1.53.0.tgz PackageFileSize: 2.749 MiB