Package: EBcoexpress Version: 1.53.0 Command: /Library/Frameworks/R.framework/Resources/bin/R CMD INSTALL EBcoexpress StartedAt: 2025-09-30 15:08:07 -0400 (Tue, 30 Sep 2025) EndedAt: 2025-09-30 15:08:09 -0400 (Tue, 30 Sep 2025) EllapsedTime: 2.2 seconds RetCode: 0 Status: OK