Package: EBcoexpress Version: 1.53.0 Command: /Library/Frameworks/R.framework/Resources/bin/R CMD build --keep-empty-dirs --no-resave-data EBcoexpress StartedAt: 2025-10-01 16:17:29 -0400 (Wed, 01 Oct 2025) EndedAt: 2025-10-01 16:17:45 -0400 (Wed, 01 Oct 2025) EllapsedTime: 16.2 seconds RetCode: 0 Status: OK PackageFile: EBcoexpress_1.53.0.tar.gz PackageFileSize: 2.663 MiB