Package: EBcoexpress Version: 1.53.0 Command: rm -rf EBcoexpress.buildbin-libdir && mkdir EBcoexpress.buildbin-libdir && /Users/biocbuild/BBS/utils/build-universal.sh EBcoexpress_1.53.0.tar.gz /Library/Frameworks/R.framework/Resources/bin/R EBcoexpress.buildbin-libdir StartedAt: 2025-09-30 22:38:31 -0400 (Tue, 30 Sep 2025) EndedAt: 2025-09-30 22:38:34 -0400 (Tue, 30 Sep 2025) EllapsedTime: 3.1 seconds RetCode: 0 Status: OK PackageFile: EBcoexpress_1.53.0.tgz PackageFileSize: 2.75 MiB