Package: EBarrays Version: 2.75.0 Command: /home/biocbuild/bbs-3.23-bioc/R/bin/R CMD INSTALL EBarrays StartedAt: 2025-11-20 15:11:56 -0500 (Thu, 20 Nov 2025) EndedAt: 2025-11-20 15:12:01 -0500 (Thu, 20 Nov 2025) EllapsedTime: 5.2 seconds RetCode: 0 Status: OK