Package: EBSeq Version: 2.9.0 Command: /Library/Frameworks/R.framework/Resources/bin/R CMD INSTALL EBSeq StartedAt: 2025-11-20 15:17:07 -0500 (Thu, 20 Nov 2025) EndedAt: 2025-11-20 15:17:38 -0500 (Thu, 20 Nov 2025) EllapsedTime: 30.9 seconds RetCode: 0 Status: OK