Package: EBSeq Version: 2.9.0 Command: /Library/Frameworks/R.framework/Resources/bin/R CMD build --keep-empty-dirs --no-resave-data EBSeq StartedAt: 2025-11-20 16:54:04 -0500 (Thu, 20 Nov 2025) EndedAt: 2025-11-20 16:54:07 -0500 (Thu, 20 Nov 2025) EllapsedTime: 3.5 seconds RetCode: 0 Status: OK PackageFile: EBSeq_2.9.0.tar.gz PackageFileSize: 1.069 MiB