Package: EBSeq Version: 2.9.0 Command: rm -rf EBSeq.buildbin-libdir && mkdir EBSeq.buildbin-libdir && /Users/biocbuild/BBS/utils/build-universal.sh EBSeq_2.9.0.tar.gz /Library/Frameworks/R.framework/Resources/bin/R EBSeq.buildbin-libdir StartedAt: 2025-11-21 01:32:16 -0500 (Fri, 21 Nov 2025) EndedAt: 2025-11-21 01:32:54 -0500 (Fri, 21 Nov 2025) EllapsedTime: 38.1 seconds RetCode: 0 Status: OK PackageFile: EBSeq_2.9.0.tgz PackageFileSize: 1.192 MiB