Package: EBSeq Version: 2.7.0 Command: /Library/Frameworks/R.framework/Resources/bin/R CMD INSTALL EBSeq StartedAt: 2025-10-03 15:06:02 -0400 (Fri, 03 Oct 2025) EndedAt: 2025-10-03 15:06:17 -0400 (Fri, 03 Oct 2025) EllapsedTime: 14.8 seconds RetCode: 0 Status: OK