Package: EBSeq Version: 2.7.0 Command: /Library/Frameworks/R.framework/Resources/bin/R CMD build --keep-empty-dirs --no-resave-data EBSeq StartedAt: 2025-10-03 16:16:53 -0400 (Fri, 03 Oct 2025) EndedAt: 2025-10-03 16:16:54 -0400 (Fri, 03 Oct 2025) EllapsedTime: 1.0 seconds RetCode: 0 Status: OK PackageFile: EBSeq_2.7.0.tar.gz PackageFileSize: 1.069 MiB