Package: EBSEA Version: 1.39.0 Command: /home/biocbuild/bbs-3.23-bioc/R/bin/R CMD build --keep-empty-dirs --no-resave-data EBSEA StartedAt: 2025-11-21 17:25:55 -0500 (Fri, 21 Nov 2025) EndedAt: 2025-11-21 17:26:33 -0500 (Fri, 21 Nov 2025) EllapsedTime: 38.0 seconds RetCode: 0 Status: OK PackageFile: EBSEA_1.39.0.tar.gz PackageFileSize: 51.48 KiB