Package: EBSEA Version: 1.39.0 Command: /Library/Frameworks/R.framework/Resources/bin/R CMD INSTALL EBSEA StartedAt: 2025-11-21 15:32:28 -0500 (Fri, 21 Nov 2025) EndedAt: 2025-11-21 15:33:02 -0500 (Fri, 21 Nov 2025) EllapsedTime: 33.7 seconds RetCode: 0 Status: OK