Package: EBSEA Version: 1.37.0 Command: /Library/Frameworks/R.framework/Resources/bin/R CMD INSTALL EBSEA StartedAt: 2025-10-24 15:20:09 -0400 (Fri, 24 Oct 2025) EndedAt: 2025-10-24 15:20:19 -0400 (Fri, 24 Oct 2025) EllapsedTime: 10.5 seconds RetCode: 0 Status: OK