Package: EBSEA Version: 1.37.0 Command: /Library/Frameworks/R.framework/Resources/bin/R CMD build --keep-empty-dirs --no-resave-data EBSEA StartedAt: 2025-10-26 16:20:57 -0400 (Sun, 26 Oct 2025) EndedAt: 2025-10-26 16:21:12 -0400 (Sun, 26 Oct 2025) EllapsedTime: 15.2 seconds RetCode: 0 Status: OK PackageFile: EBSEA_1.37.0.tar.gz PackageFileSize: 56.16 KiB