Package: EBImage Version: 4.53.0 Command: /Library/Frameworks/R.framework/Resources/bin/R CMD INSTALL EBImage StartedAt: 2025-11-21 15:07:20 -0500 (Fri, 21 Nov 2025) EndedAt: 2025-11-21 15:07:24 -0500 (Fri, 21 Nov 2025) EllapsedTime: 4.5 seconds RetCode: 0 Status: OK