Package: EBImage Version: 4.53.0 Command: /Library/Frameworks/R.framework/Resources/bin/R CMD build --keep-empty-dirs --no-resave-data EBImage StartedAt: 2025-11-20 16:15:18 -0500 (Thu, 20 Nov 2025) EndedAt: 2025-11-20 16:15:39 -0500 (Thu, 20 Nov 2025) EllapsedTime: 20.2 seconds RetCode: 0 Status: OK PackageFile: EBImage_4.53.0.tar.gz PackageFileSize: 6.289 MiB