Package: EBImage Version: 4.53.0 Command: rm -rf EBImage.buildbin-libdir && mkdir EBImage.buildbin-libdir && /Users/biocbuild/BBS/utils/build-universal.sh EBImage_4.53.0.tar.gz /Library/Frameworks/R.framework/Resources/bin/R EBImage.buildbin-libdir StartedAt: 2025-11-20 23:32:01 -0500 (Thu, 20 Nov 2025) EndedAt: 2025-11-20 23:32:09 -0500 (Thu, 20 Nov 2025) EllapsedTime: 8.2 seconds RetCode: 0 Status: OK PackageFile: EBImage_4.53.0.tgz PackageFileSize: 6.649 MiB