Back to Build/check report for BioC 3.23:   simplified   long
ABCD[E]FGHIJKLMNOPQRSTUVWXYZ

This page was generated on 2025-10-31 08:34 -0400 (Fri, 31 Oct 2025).

HostnameOSArch (*)R versionInstalled pkgs
nebbiolo1Linux (Ubuntu 24.04.3 LTS)x86_64R Under development (unstable) (2025-10-20 r88955) -- "Unsuffered Consequences" 4428
Click on any hostname to see more info about the system (e.g. compilers)      (*) as reported by 'uname -p', except on Windows and Mac OS X

All results for package EBImage


To the developers/maintainers of the EBImage package:
- Allow up to 24 hours (and sometimes 48 hours) for your latest push to git@git.bioconductor.org:packages/EBImage.git to reflect on this report. See Troubleshooting Build Report for more information.
- Use the following Renviron settings to reproduce errors and warnings.
- If 'R CMD check' started to fail recently on the Linux builder(s) over a missing dependency, add the missing dependency to 'Suggests:' in your DESCRIPTION file. See Renviron.bioc for more information.

raw results

Package 637/2321HostnameOS / ArchINSTALLBUILDCHECKBUILD BIN
EBImage 4.53.0  (landing page)
Andrzej Oleś
Snapshot Date: 2025-10-30 13:40 -0400 (Thu, 30 Oct 2025)
git_url: https://git.bioconductor.org/packages/EBImage
git_branch: devel
git_last_commit: ee2451f
git_last_commit_date: 2025-10-29 09:57:46 -0400 (Wed, 29 Oct 2025)
nebbiolo1Linux (Ubuntu 24.04.3 LTS) / x86_64  OK    OK    OK  YES



Results for Bioconductor software packages that depend directly on package EBImage

QUICK STATSOS / ArchINSTALLBUILDCHECKBUILD BIN
nebbiolo1Linux (Ubuntu 24.04.3 LTS) / x86_64
0022
0418
00216
Package 1/22HostnameOS / ArchINSTALLBUILDCHECKBUILD BIN
alabaster.sfe 1.3.0  (landing page)
Lambda Moses
git_last_commit: a71e5d5
git_last_commit_date: 2025-10-29 11:35:08 -0400
nebbiolo1Linux (Ubuntu 24.04.3 LTS) / x86_64  OK    OK    OK  NO, package depends on 'SpatialFeatureExperiment' which is not available
Package 2/22HostnameOS / ArchINSTALLBUILDCHECKBUILD BIN
bnbc 1.33.0  (landing page)
Kipper Fletez-Brant
git_last_commit: dc2adb8
git_last_commit_date: 2025-10-29 10:41:29 -0400
nebbiolo1Linux (Ubuntu 24.04.3 LTS) / x86_64  OK    ERROR  skipped
Package 3/22HostnameOS / ArchINSTALLBUILDCHECKBUILD BIN
Cardinal 3.13.0  (landing page)
Kylie Ariel Bemis
git_last_commit: 2d83be5
git_last_commit_date: 2025-10-29 10:23:51 -0400
nebbiolo1Linux (Ubuntu 24.04.3 LTS) / x86_64  OK    OK    OK  YES
Package 4/22HostnameOS / ArchINSTALLBUILDCHECKBUILD BIN
CatsCradle 1.5.0  (landing page)
Michael Shapiro
git_last_commit: bb7982c
git_last_commit_date: 2025-10-29 11:31:59 -0400
nebbiolo1Linux (Ubuntu 24.04.3 LTS) / x86_64  OK    ERROR  skipped
Package 5/22HostnameOS / ArchINSTALLBUILDCHECKBUILD BIN
CONFESS 1.39.0  (landing page)
Diana LOW
git_last_commit: b97e3ac
git_last_commit_date: 2025-10-29 10:31:27 -0400
nebbiolo1Linux (Ubuntu 24.04.3 LTS) / x86_64  OK    OK    WARNINGS  YES
Package 6/22HostnameOS / ArchINSTALLBUILDCHECKBUILD BIN
CRImage 1.59.0  (landing page)
Henrik Failmezger , Yinyin Yuan
git_last_commit: 850c6ef
git_last_commit_date: 2025-10-29 10:05:56 -0400
nebbiolo1Linux (Ubuntu 24.04.3 LTS) / x86_64  OK    OK    OK  YES
Package 7/22HostnameOS / ArchINSTALLBUILDCHECKBUILD BIN
cytomapper 1.23.0  (landing page)
Lasse Meyer
git_last_commit: 20338b5
git_last_commit_date: 2025-10-29 10:57:59 -0400
nebbiolo1Linux (Ubuntu 24.04.3 LTS) / x86_64  OK    OK    OK  NO, package depends on 'SingleCellExperiment' which is not available
Package 8/22HostnameOS / ArchINSTALLBUILDCHECKBUILD BIN
cytoviewer 1.11.0  (landing page)
Lasse Meyer
git_last_commit: a269d53
git_last_commit_date: 2025-10-29 11:22:11 -0400
nebbiolo1Linux (Ubuntu 24.04.3 LTS) / x86_64  OK    OK    OK  NO, package depends on 'cytomapper' which is not available
Package 9/22HostnameOS / ArchINSTALLBUILDCHECKBUILD BIN
FISHalyseR 1.45.0  (landing page)
Karesh Arunakirinathan
git_last_commit: 6b40aa5
git_last_commit_date: 2025-10-29 10:25:15 -0400
nebbiolo1Linux (Ubuntu 24.04.3 LTS) / x86_64  OK    OK    WARNINGS  YES
Package 10/22HostnameOS / ArchINSTALLBUILDCHECKBUILD BIN
flowcatchR 1.45.0  (landing page)
Federico Marini
git_last_commit: 1168ab0
git_last_commit_date: 2025-10-29 10:22:08 -0400
nebbiolo1Linux (Ubuntu 24.04.3 LTS) / x86_64  OK    OK    OK  YES
Package 11/22HostnameOS / ArchINSTALLBUILDCHECKBUILD BIN
flowCHIC 1.45.0  (landing page)
Author: Joachim Schumann
git_last_commit: c56715d
git_last_commit_date: 2025-10-29 10:22:16 -0400
nebbiolo1Linux (Ubuntu 24.04.3 LTS) / x86_64  OK    OK    OK  YES
Package 12/22HostnameOS / ArchINSTALLBUILDCHECKBUILD BIN
heatmaps 1.35.0  (landing page)
Malcolm Perry
git_last_commit: dd77fbc
git_last_commit_date: 2025-10-29 10:38:31 -0400
nebbiolo1Linux (Ubuntu 24.04.3 LTS) / x86_64  OK    ERROR  skipped
Package 13/22HostnameOS / ArchINSTALLBUILDCHECKBUILD BIN
imcRtools 1.17.0  (landing page)
Daniel Schulz
git_last_commit: 00166f2
git_last_commit_date: 2025-10-29 11:12:28 -0400
nebbiolo1Linux (Ubuntu 24.04.3 LTS) / x86_64  OK    OK    OK  NO, package depends on 'SpatialExperiment' which is not available
Package 14/22HostnameOS / ArchINSTALLBUILDCHECKBUILD BIN
MoleculeExperiment 1.11.0  (landing page)
Shila Ghazanfar
git_last_commit: 35b0ff3
git_last_commit_date: 2025-10-29 11:22:45 -0400
nebbiolo1Linux (Ubuntu 24.04.3 LTS) / x86_64  OK    OK    OK  NO, package depends on 'SpatialExperiment' which is not available
Package 15/22HostnameOS / ArchINSTALLBUILDCHECKBUILD BIN
RBioFormats 1.11.0  (landing page)
Andrzej Oleś
git_last_commit: fa3ee7d
git_last_commit_date: 2025-10-29 11:20:28 -0400
nebbiolo1Linux (Ubuntu 24.04.3 LTS) / x86_64  OK    OK    OK  YES
Package 16/22HostnameOS / ArchINSTALLBUILDCHECKBUILD BIN
simpleSeg 1.13.0  (landing page)
Ellis Patrick
git_last_commit: 3edd044
git_last_commit_date: 2025-10-29 11:19:44 -0400
nebbiolo1Linux (Ubuntu 24.04.3 LTS) / x86_64  OK    OK    OK  NO, package depends on 'SummarizedExperiment' which is not available
Package 17/22HostnameOS / ArchINSTALLBUILDCHECKBUILD BIN
sosta 1.3.0  (landing page)
Samuel Gunz
git_last_commit: 02b3ce2
git_last_commit_date: 2025-10-29 11:33:49 -0400
nebbiolo1Linux (Ubuntu 24.04.3 LTS) / x86_64  OK    OK    OK  NO, package depends on 'SpatialExperiment' which is not available
Package 18/22HostnameOS / ArchINSTALLBUILDCHECKBUILD BIN
SpatialFeatureExperiment 1.13.0  (landing page)
Lambda Moses
git_last_commit: 06f0dbf
git_last_commit_date: 2025-10-29 11:19:11 -0400
nebbiolo1Linux (Ubuntu 24.04.3 LTS) / x86_64  OK    ERROR  skipped
Package 19/22HostnameOS / ArchINSTALLBUILDCHECKBUILD BIN
SpatialOmicsOverlay 1.11.0  (landing page)
Maddy Griswold
git_last_commit: 5b92d66
git_last_commit_date: 2025-10-29 11:22:27 -0400
nebbiolo1Linux (Ubuntu 24.04.3 LTS) / x86_64  OK    OK    OK  NO, package depends on 'GeomxTools' which is not available
Package 20/22HostnameOS / ArchINSTALLBUILDCHECKBUILD BIN
synapsis 1.17.0  (landing page)
Lucy McNeill
git_last_commit: cc1375e
git_last_commit_date: 2025-10-29 11:13:22 -0400
nebbiolo1Linux (Ubuntu 24.04.3 LTS) / x86_64  OK    OK    OK  YES
Package 21/22HostnameOS / ArchINSTALLBUILDCHECKBUILD BIN
xenLite 1.5.0  (landing page)
Vincent Carey
git_last_commit: 504f4e0
git_last_commit_date: 2025-10-29 11:31:51 -0400
nebbiolo1Linux (Ubuntu 24.04.3 LTS) / x86_64  OK    OK    OK  NO, package depends on 'SpatialExperiment' which is not available
Package 22/22HostnameOS / ArchINSTALLBUILDCHECKBUILD BIN
yamss 1.37.0  (landing page)
Leslie Myint
git_last_commit: 9695dd5
git_last_commit_date: 2025-10-29 10:35:27 -0400
nebbiolo1Linux (Ubuntu 24.04.3 LTS) / x86_64  OK    OK    OK  NO, package depends on 'SummarizedExperiment' which is not available