Package: DynDoc Version: 1.89.0 Command: /home/biocbuild/bbs-3.23-bioc/R/bin/R CMD INSTALL DynDoc StartedAt: 2025-10-31 15:10:31 -0400 (Fri, 31 Oct 2025) EndedAt: 2025-10-31 15:10:35 -0400 (Fri, 31 Oct 2025) EllapsedTime: 3.9 seconds RetCode: 0 Status: OK