Package: DuplexDiscovereR Version: 1.3.4 Command: /home/biocbuild/R/R/bin/R CMD INSTALL DuplexDiscovereR StartedAt: 2025-10-16 22:10:57 -0000 (Thu, 16 Oct 2025) EndedAt: 2025-10-16 22:12:40 -0000 (Thu, 16 Oct 2025) EllapsedTime: 103.8 seconds RetCode: 0 Status: OK