Package: DuplexDiscovereR Version: 1.3.4 Command: /home/biocbuild/R/R/bin/R CMD build --keep-empty-dirs --no-resave-data DuplexDiscovereR StartedAt: 2025-10-17 00:50:47 -0000 (Fri, 17 Oct 2025) EndedAt: 2025-10-17 00:53:28 -0000 (Fri, 17 Oct 2025) EllapsedTime: 161.1 seconds RetCode: 0 Status: OK PackageFile: DuplexDiscovereR_1.3.4.tar.gz PackageFileSize: 1.018 MiB