Package: DuplexDiscovereR Version: 1.3.2 Command: /Library/Frameworks/R.framework/Resources/bin/R CMD INSTALL DuplexDiscovereR StartedAt: 2025-09-29 15:41:24 -0400 (Mon, 29 Sep 2025) EndedAt: 2025-09-29 15:43:17 -0400 (Mon, 29 Sep 2025) EllapsedTime: 113.2 seconds RetCode: 0 Status: OK