Package: DuplexDiscovereR Version: 1.3.2 Command: /Library/Frameworks/R.framework/Resources/bin/R CMD build --keep-empty-dirs --no-resave-data DuplexDiscovereR StartedAt: 2025-09-30 16:50:14 -0400 (Tue, 30 Sep 2025) EndedAt: 2025-09-30 16:52:43 -0400 (Tue, 30 Sep 2025) EllapsedTime: 148.4 seconds RetCode: 0 Status: OK PackageFile: DuplexDiscovereR_1.3.2.tar.gz PackageFileSize: 998.1 KiB