Package: DuplexDiscovereR Version: 1.3.4 Maintainer: Egor Semenchenko MaintainerEmail: yegor.smb at gmail.com git_url: https://git.bioconductor.org/packages/DuplexDiscovereR git_branch: devel git_last_commit: 7e5c418 git_last_commit_date: 2025-10-06 09:18:34 -0400 (Mon, 06 Oct 2025)