Package: Dune Version: 1.23.0 Command: /home/biocbuild/bbs-3.23-bioc/R/bin/R CMD build --keep-empty-dirs --no-resave-data Dune StartedAt: 2025-11-21 17:24:27 -0500 (Fri, 21 Nov 2025) EndedAt: 2025-11-21 17:25:08 -0500 (Fri, 21 Nov 2025) EllapsedTime: 41.0 seconds RetCode: 0 Status: OK PackageFile: Dune_1.23.0.tar.gz PackageFileSize: 2.038 MiB