Package: Dune Version: 1.23.0 Command: /Library/Frameworks/R.framework/Resources/bin/R CMD INSTALL Dune StartedAt: 2025-11-21 15:24:09 -0500 (Fri, 21 Nov 2025) EndedAt: 2025-11-21 15:24:45 -0500 (Fri, 21 Nov 2025) EllapsedTime: 35.6 seconds RetCode: 0 Status: OK