Package: Dune Version: 1.23.0 Command: /Library/Frameworks/R.framework/Resources/bin/R CMD build --keep-empty-dirs --no-resave-data Dune StartedAt: 2025-11-21 16:53:23 -0500 (Fri, 21 Nov 2025) EndedAt: 2025-11-21 16:54:10 -0500 (Fri, 21 Nov 2025) EllapsedTime: 46.8 seconds RetCode: 0 Status: OK PackageFile: Dune_1.23.0.tar.gz PackageFileSize: 2.295 MiB