Package: Dune Version: 1.23.0 Command: rm -rf Dune.buildbin-libdir && mkdir Dune.buildbin-libdir && /Users/biocbuild/BBS/utils/build-universal.sh Dune_1.23.0.tar.gz /Library/Frameworks/R.framework/Resources/bin/R Dune.buildbin-libdir StartedAt: 2025-11-22 01:32:30 -0500 (Sat, 22 Nov 2025) EndedAt: 2025-11-22 01:33:11 -0500 (Sat, 22 Nov 2025) EllapsedTime: 41.0 seconds RetCode: 0 Status: OK PackageFile: Dune_1.23.0.tgz PackageFileSize: 1.859 MiB