Package: DspikeIn Version: 0.99.29 Command: /home/biocbuild/bbs-3.22-bioc/R/bin/R CMD INSTALL DspikeIn StartedAt: 2025-10-27 15:40:03 -0400 (Mon, 27 Oct 2025) EndedAt: 2025-10-27 15:40:59 -0400 (Mon, 27 Oct 2025) EllapsedTime: 55.8 seconds RetCode: 0 Status: OK