Package: DspikeIn Version: 0.99.29 Command: /home/biocbuild/bbs-3.22-bioc/R/bin/R CMD check --install=check:DspikeIn.install-out.txt --library=/home/biocbuild/bbs-3.22-bioc/R/site-library --timings DspikeIn_0.99.29.tar.gz StartedAt: 2025-10-27 23:15:18 -0400 (Mon, 27 Oct 2025) EndedAt: 2025-10-27 23:27:48 -0400 (Mon, 27 Oct 2025) EllapsedTime: 749.7 seconds RetCode: 0 Status: OK CheckDir: DspikeIn.Rcheck Warnings: 0