Package: DspikeIn Version: 0.99.29 Command: /home/biocbuild/bbs-3.22-bioc/R/bin/R CMD build --keep-empty-dirs --no-resave-data --md5 DspikeIn StartedAt: 2025-10-27 17:26:28 -0400 (Mon, 27 Oct 2025) EndedAt: 2025-10-27 17:31:09 -0400 (Mon, 27 Oct 2025) EllapsedTime: 280.3 seconds RetCode: 0 Status: OK PackageFile: DspikeIn_0.99.29.tar.gz PackageFileSize: 4.335 MiB