Package: DspikeIn Version: 1.1.0 Command: /home/biocbuild/bbs-3.23-bioc/R/bin/R CMD build --keep-empty-dirs --no-resave-data DspikeIn StartedAt: 2025-11-20 17:24:45 -0500 (Thu, 20 Nov 2025) EndedAt: 2025-11-20 17:29:20 -0500 (Thu, 20 Nov 2025) EllapsedTime: 275.2 seconds RetCode: 0 Status: OK PackageFile: DspikeIn_1.1.0.tar.gz PackageFileSize: 4.064 MiB