Package: DspikeIn Version: 0.99.29 Command: /Library/Frameworks/R.framework/Resources/bin/R CMD INSTALL DspikeIn StartedAt: 2025-10-27 15:37:47 -0400 (Mon, 27 Oct 2025) EndedAt: 2025-10-27 15:39:01 -0400 (Mon, 27 Oct 2025) EllapsedTime: 74.4 seconds RetCode: 0 Status: OK