Package: DspikeIn Version: 0.99.29 Command: /Library/Frameworks/R.framework/Resources/bin/R CMD build --keep-empty-dirs --no-resave-data DspikeIn StartedAt: 2025-10-27 16:47:40 -0400 (Mon, 27 Oct 2025) EndedAt: 2025-10-27 16:53:25 -0400 (Mon, 27 Oct 2025) EllapsedTime: 344.9 seconds RetCode: 0 Status: OK PackageFile: DspikeIn_0.99.29.tar.gz PackageFileSize: 4.337 MiB