Package: DspikeIn Version: 0.99.29 Command: rm -rf DspikeIn.buildbin-libdir && mkdir DspikeIn.buildbin-libdir && /Users/biocbuild/BBS/utils/build-universal.sh DspikeIn_0.99.29.tar.gz /Library/Frameworks/R.framework/Resources/bin/R DspikeIn.buildbin-libdir StartedAt: 2025-10-28 02:10:03 -0400 (Tue, 28 Oct 2025) EndedAt: 2025-10-28 02:11:21 -0400 (Tue, 28 Oct 2025) EllapsedTime: 77.6 seconds RetCode: 0 Status: OK PackageFile: DspikeIn_0.99.29.tgz PackageFileSize: 4.764 MiB