Package: DspikeIn Version: 1.0.0 Command: /Library/Frameworks/R.framework/Resources/bin/R CMD INSTALL DspikeIn StartedAt: 2025-10-29 21:40:35 -0400 (Wed, 29 Oct 2025) EndedAt: 2025-10-29 21:40:58 -0400 (Wed, 29 Oct 2025) EllapsedTime: 23.0 seconds RetCode: 0 Status: OK