Package: DspikeIn Version: 0.99.29 Command: /Library/Frameworks/R.framework/Resources/bin/R CMD build --keep-empty-dirs --no-resave-data DspikeIn StartedAt: 2025-10-28 16:16:18 -0400 (Tue, 28 Oct 2025) EndedAt: 2025-10-28 16:16:48 -0400 (Tue, 28 Oct 2025) EllapsedTime: 30.3 seconds RetCode: 1 Status: ERROR PackageFile: None PackageFileSize: NA